BEGIN:VCALENDAR
VERSION:2.0
PRODID:-//ChamberMaster//Event Calendar 2.0//EN
METHOD:PUBLISH
X-PUBLISHED-TTL:P1H
REFRESH-INTERVAL:P1H
CALSCALE:GREGORIAN
BEGIN:VTIMEZONE
TZID:America/New_York
BEGIN:DAYLIGHT
RRULE:FREQ=YEARLY;BYMONTH=3;BYDAY=2SU
DTSTART:20070101T000000
TZOFFSETFROM:-0500
TZOFFSETTO:-0400
TZNAME:Eastern Daylight Time
END:DAYLIGHT
BEGIN:STANDARD
RRULE:FREQ=YEARLY;BYMONTH=11;BYDAY=1SU
DTSTART:20070101T000000
TZOFFSETFROM:-0400
TZOFFSETTO:-0500
TZNAME:Eastern Standard Time
END:STANDARD
END:VTIMEZONE
BEGIN:VEVENT
DTSTART;TZID=America/New_York:20260507T150000
DTEND;TZID=America/New_York:20260507T160000
X-MICROSOFT-CDO-ALLDAYEVENT:FALSE
SUMMARY:Chamber ribbon cutting
DESCRIPTION:New chamber member ribbon cutting! -it's finally here\, Muskingum County\, cost effective emergency medical training (CPR) (BLS) huge discounts offered to businesses! We offer certified medical assistant certified phlebotomy technician as well as medication administration certificate courses through the national healthcare Association
X-ALT-DESC;FMTTYPE=text/html:<!DOCTYPE html><html><head><title></title></head><body aria-disabled="false"><p>New chamber member ribbon cutting! -it&rsquo\;s finally here\, Muskingum County\, cost effective emergency medical training (CPR) (BLS) huge discounts offered to businesses! We offer certified medical assistant certified phlebotomy technician as well as medication administration certificate courses through the national healthcare Association</p></body></html>
LOCATION:1100E Brandywine Boulevard A9 Zanesville OH 43701
UID:e.4489.1443953
SEQUENCE:3
DTSTAMP:20260422T000542Z
URL:https://member.zmchamber.com/eventcalendar/Details/chamber-ribbon-cutting-1710232?sourceTypeId=Hub
END:VEVENT
END:VCALENDAR
